BEGIN:VCALENDAR
VERSION:2.0
PRODID:-//Tauchclub Wetterau e.V. - ECPv6.15.15//NONSGML v1.0//EN
CALSCALE:GREGORIAN
METHOD:PUBLISH
X-ORIGINAL-URL:https://tc-wetterau.de
X-WR-CALDESC:Veranstaltungen für Tauchclub Wetterau e.V.
REFRESH-INTERVAL;VALUE=DURATION:PT1H
X-Robots-Tag:noindex
X-PUBLISHED-TTL:PT1H
BEGIN:VTIMEZONE
TZID:Europe/Berlin
BEGIN:DAYLIGHT
TZOFFSETFROM:+0100
TZOFFSETTO:+0200
TZNAME:CEST
DTSTART:20230326T010000
END:DAYLIGHT
BEGIN:STANDARD
TZOFFSETFROM:+0200
TZOFFSETTO:+0100
TZNAME:CET
DTSTART:20231029T010000
END:STANDARD
BEGIN:DAYLIGHT
TZOFFSETFROM:+0100
TZOFFSETTO:+0200
TZNAME:CEST
DTSTART:20240331T010000
END:DAYLIGHT
BEGIN:STANDARD
TZOFFSETFROM:+0200
TZOFFSETTO:+0100
TZNAME:CET
DTSTART:20241027T010000
END:STANDARD
BEGIN:DAYLIGHT
TZOFFSETFROM:+0100
TZOFFSETTO:+0200
TZNAME:CEST
DTSTART:20250330T010000
END:DAYLIGHT
BEGIN:STANDARD
TZOFFSETFROM:+0200
TZOFFSETTO:+0100
TZNAME:CET
DTSTART:20251026T010000
END:STANDARD
END:VTIMEZONE
BEGIN:VEVENT
DTSTART;TZID=Europe/Berlin:20240414T100000
DTEND;TZID=Europe/Berlin:20240414T160000
DTSTAMP:20260422T032034
CREATED:20240228T190850Z
LAST-MODIFIED:20240228T190850Z
UID:2277-1713088800-1713110400@tc-wetterau.de
SUMMARY:Antauchen 2024
DESCRIPTION:Tranditonell wird das neue Tauchjahr mit dem Antauchen begrüßt und mit einem gemeinsamen Treffen und Tauchgängen begonnen
URL:https://tc-wetterau.de/event/antauchen-2024/
LOCATION:Kristallsee\, Kristallsee\, Oberkleen
CATEGORIES:Ausbildung,Vereinsveranstaltungen
END:VEVENT
END:VCALENDAR