BEGIN:VCALENDAR
VERSION:2.0
PRODID:-//Tauchclub Wetterau e.V. - ECPv6.15.15//NONSGML v1.0//EN
CALSCALE:GREGORIAN
METHOD:PUBLISH
X-ORIGINAL-URL:https://tc-wetterau.de
X-WR-CALDESC:Veranstaltungen für Tauchclub Wetterau e.V.
REFRESH-INTERVAL;VALUE=DURATION:PT1H
X-Robots-Tag:noindex
X-PUBLISHED-TTL:PT1H
BEGIN:VTIMEZONE
TZID:Europe/Berlin
BEGIN:DAYLIGHT
TZOFFSETFROM:+0100
TZOFFSETTO:+0200
TZNAME:CEST
DTSTART:20230326T010000
END:DAYLIGHT
BEGIN:STANDARD
TZOFFSETFROM:+0200
TZOFFSETTO:+0100
TZNAME:CET
DTSTART:20231029T010000
END:STANDARD
BEGIN:DAYLIGHT
TZOFFSETFROM:+0100
TZOFFSETTO:+0200
TZNAME:CEST
DTSTART:20240331T010000
END:DAYLIGHT
BEGIN:STANDARD
TZOFFSETFROM:+0200
TZOFFSETTO:+0100
TZNAME:CET
DTSTART:20241027T010000
END:STANDARD
BEGIN:DAYLIGHT
TZOFFSETFROM:+0100
TZOFFSETTO:+0200
TZNAME:CEST
DTSTART:20250330T010000
END:DAYLIGHT
BEGIN:STANDARD
TZOFFSETFROM:+0200
TZOFFSETTO:+0100
TZNAME:CET
DTSTART:20251026T010000
END:STANDARD
END:VTIMEZONE
BEGIN:VEVENT
DTSTART;VALUE=DATE:20240216
DTEND;VALUE=DATE:20240316
DTSTAMP:20260422T032123
CREATED:20240211T095742Z
LAST-MODIFIED:20240211T095742Z
UID:2240-1708041600-1710547199@tc-wetterau.de
SUMMARY:Tauchkurs 2024
DESCRIPTION:Einsteigerkurs 2024 für alle Tauchinteressierten
URL:https://tc-wetterau.de/event/tauchkurs-2024/
LOCATION:Usa Wellenbad\, In der Au 2\, Bad Nauheim\, 61231\, Germany
CATEGORIES:Ausbildung
END:VEVENT
BEGIN:VEVENT
DTSTART;TZID=Europe/Berlin:20240317T150000
DTEND;TZID=Europe/Berlin:20240317T170000
DTSTAMP:20260422T032123
CREATED:20240211T094146Z
LAST-MODIFIED:20240229T184133Z
UID:2221-1710687600-1710694800@tc-wetterau.de
SUMMARY:Mitgliederversammlung 2024
DESCRIPTION:Tagesordnung: \n\nEröffnung und Begrüßung der Mitglieder\nWahl eines Versammlungsschriftführers / einer Versammlungsschriftführerin\nFeststellung der Ordnungsmäßigkeit der Einladung\nFeststellung der Anzahl der stimmberechtigten Mitglieder\nGenehmigung der Tagesordnung\nEntgegennahme der Berichte des Vorstandes\nAussprache zu den Berichten\nBericht der Kassenprüfer\nEntlastung des Vorstandes\nAbstimmung Mitgliedsbeitragserhöhung ab 2024\nWahl eines neuen Schatzmeisters/ einer neuen Schatzmeisterin\nWahl eines neuen Kassenprüfers / einer neuen Kassenprüferin\nVerschiedenes\n\nOrt: Dorfgemeinschaftshaus\, Am Bohnengarten 6\, 35516 Münzenberg im Stadtteil Ober-Hörgern
URL:https://tc-wetterau.de/event/mitgliederversammlung-2024/
LOCATION:Dorfgemeinschatshaus Ober-Hörgern
CATEGORIES:Vereinsveranstaltungen
END:VEVENT
BEGIN:VEVENT
DTSTART;TZID=Europe/Berlin:20240323T090000
DTEND;TZID=Europe/Berlin:20240323T120000
DTSTAMP:20260422T032123
CREATED:20240211T094335Z
LAST-MODIFIED:20240211T094335Z
UID:2223-1711184400-1711195200@tc-wetterau.de
SUMMARY:Arbeitseinsatz März 2024
DESCRIPTION:Treffpunkt: am See in Oberkleen\nZeit: 09:00 – 12:00 Uhr \nAnmeldung bitte an Elke \nKleidung und Schuhwerk der Witterung anpassen. Auch wenn es warm ist\, bitte trotzdem festes Schuhwerk und Arbeitshandschuhe tragen\, wenn nötig auch eine Schutzbrille! Für die Müllsammlung stehen Plastiktüten und Müllgreifer zur Verfügung.
URL:https://tc-wetterau.de/event/arbeitseinsatz-maerz-2024/
LOCATION:Kristallsee\, Kristallsee\, Oberkleen
CATEGORIES:Vereinsveranstaltungen
END:VEVENT
END:VCALENDAR