BEGIN:VCALENDAR
VERSION:2.0
PRODID:-//Tauchclub Wetterau e.V. - ECPv6.15.15//NONSGML v1.0//EN
CALSCALE:GREGORIAN
METHOD:PUBLISH
X-WR-CALNAME:Tauchclub Wetterau e.V.
X-ORIGINAL-URL:https://tc-wetterau.de
X-WR-CALDESC:Veranstaltungen für Tauchclub Wetterau e.V.
REFRESH-INTERVAL;VALUE=DURATION:PT1H
X-Robots-Tag:noindex
X-PUBLISHED-TTL:PT1H
BEGIN:VTIMEZONE
TZID:Europe/Berlin
BEGIN:DAYLIGHT
TZOFFSETFROM:+0100
TZOFFSETTO:+0200
TZNAME:CEST
DTSTART:20240331T010000
END:DAYLIGHT
BEGIN:STANDARD
TZOFFSETFROM:+0200
TZOFFSETTO:+0100
TZNAME:CET
DTSTART:20241027T010000
END:STANDARD
BEGIN:DAYLIGHT
TZOFFSETFROM:+0100
TZOFFSETTO:+0200
TZNAME:CEST
DTSTART:20250330T010000
END:DAYLIGHT
BEGIN:STANDARD
TZOFFSETFROM:+0200
TZOFFSETTO:+0100
TZNAME:CET
DTSTART:20251026T010000
END:STANDARD
BEGIN:DAYLIGHT
TZOFFSETFROM:+0100
TZOFFSETTO:+0200
TZNAME:CEST
DTSTART:20260329T010000
END:DAYLIGHT
BEGIN:STANDARD
TZOFFSETFROM:+0200
TZOFFSETTO:+0100
TZNAME:CET
DTSTART:20261025T010000
END:STANDARD
END:VTIMEZONE
BEGIN:VEVENT
DTSTART;TZID=Europe/Berlin:20250816T093000
DTEND;TZID=Europe/Berlin:20250816T123000
DTSTAMP:20260420T234742
CREATED:20250302T164750Z
LAST-MODIFIED:20250302T164750Z
UID:2527-1755336600-1755347400@tc-wetterau.de
SUMMARY:Arbeitseinsatz – August 2025
DESCRIPTION:Anmeldung bitte an elke.elke@t-online.de mit dem Wunschtermin. Ihr bekommt dann eine Bestätigung von mir. \nDie Arbeit besteht hauptsächlich darin\, den Müll und die Kippen zu entsorgen. Für die Müllsammlung stehen Plastiktüten und Müllgreifer zur Verfügung. Bitte Kleidung und Schuhwerk der Witterung anpassen. Auch wenn es warm ist\, bitte trotzdem festes Schuhwerk und Arbeitshandschuhe tragen\, wenn nötig auch eine Schutzbrille!
URL:https://tc-wetterau.de/event/arbeitseinsatz-august-2025/
LOCATION:Kristallsee\, Kristallsee\, Oberkleen
CATEGORIES:Vereinsveranstaltungen
END:VEVENT
BEGIN:VEVENT
DTSTART;TZID=Europe/Berlin:20250816T100000
DTEND;TZID=Europe/Berlin:20250816T170000
DTSTAMP:20260420T234742
CREATED:20250810T124648Z
LAST-MODIFIED:20250810T124648Z
UID:2593-1755338400-1755363600@tc-wetterau.de
SUMMARY:Sommerfest TC Wetterau
DESCRIPTION:
URL:https://tc-wetterau.de/event/sommerfest-tc-wetterau/
LOCATION:Kristallsee\, Kristallsee\, Oberkleen
CATEGORIES:Vereinsveranstaltungen
END:VEVENT
END:VCALENDAR